BEGIN:VCALENDAR
VERSION:2.0
PRODID:icalendar-ruby
CALSCALE:GREGORIAN
METHOD:PUBLISH
BEGIN:VEVENT
DTSTAMP:20260421T082756Z
UID:13-250696@mainechialpha.com
DTSTART:20261027T023000Z
DTEND:20261027T043000Z
CLASS:PUBLIC
CREATED:20260420T181844
DESCRIPTION:Large Group is where we all come together to spend time praisin
 g God and reading the Word. You can expect musical worship\, sound Biblic
 al teaching and some very cringy puns to start the night. No really\, you 
 should probably prepare yourself for that last one. You can find us on Mon
 day nights at 7:30 in the Bangor Room (Memorial Union). Everyone is welcom
 e to join! \n\n** We will be meeting in the Wade Center (Memorial Union) 
 on 10/20\, 10/27 &amp\; 11/17 **
LAST-MODIFIED:20260420T181844
LOCATION:Mondays at 7:30 pm\, Bangor Room\, Memorial Union
SUMMARY:Large Group Service
URL;VALUE=URI:https://mainechialpha.com/events/large-group-service/2026-10-
 26
ATTACH;FILENAME=IMG_6686.jpeg;FMTTYPE=image/jpeg:https://dq5pwpg1q8ru0.clou
 dfront.net/2025/10/09/18/08/58/02700346-704f-4125-a28c-083a602f1656/IMG_66
 86.jpeg
END:VEVENT
END:VCALENDAR
