BEGIN:VCALENDAR
VERSION:2.0
PRODID:icalendar-ruby
CALSCALE:GREGORIAN
METHOD:PUBLISH
BEGIN:VEVENT
DTSTAMP:20260423T055514Z
UID:7-251966@mainechialpha.com
DTSTART:20261103T033000Z
DTEND:20261103T053000Z
CLASS:PUBLIC
CREATED:20260422T201407
DESCRIPTION:Large Group
LAST-MODIFIED:20260422T201407
LOCATION:Bangor Room\, Memorial Union
SUMMARY:Large Group
URL;VALUE=URI:https://mainechialpha.com/events/large-group--7/2026-11-02
END:VEVENT
END:VCALENDAR
