BEGIN:VCALENDAR
VERSION:2.0
PRODID:icalendar-ruby
CALSCALE:GREGORIAN
METHOD:PUBLISH
BEGIN:VEVENT
DTSTAMP:20260423T032223Z
UID:7-251964@mainechialpha.com
DTSTART:20261020T023000Z
DTEND:20261020T043000Z
CLASS:PUBLIC
CREATED:20260422T201407
DESCRIPTION:Large Group
LAST-MODIFIED:20260422T201407
LOCATION:Bangor Room\, Memorial Union
SUMMARY:Large Group
URL;VALUE=URI:https://mainechialpha.com/events/large-group--7/2026-10-19
END:VEVENT
END:VCALENDAR
