BEGIN:VCALENDAR
VERSION:2.0
PRODID:icalendar-ruby
CALSCALE:GREGORIAN
METHOD:PUBLISH
BEGIN:VEVENT
DTSTAMP:20260423T003234Z
UID:7-251852@mainechialpha.com
DTSTART:20261006T023000Z
DTEND:20261006T043000Z
CLASS:PUBLIC
CREATED:20260422T171941
DESCRIPTION:Large Group
LAST-MODIFIED:20260422T171941
LOCATION:Bangor Room\, Memorial Union
SUMMARY:Large Group
URL;VALUE=URI:https://mainechialpha.com/events/large-group--7/2026-10-05
END:VEVENT
END:VCALENDAR
