BEGIN:VCALENDAR
VERSION:2.0
PRODID:icalendar-ruby
CALSCALE:GREGORIAN
METHOD:PUBLISH
BEGIN:VEVENT
DTSTAMP:20260422T230858Z
UID:7-251741@mainechialpha.com
DTSTART:20260929T023000Z
DTEND:20260929T043000Z
CLASS:PUBLIC
CREATED:20260422T142811
DESCRIPTION:Large Group
LAST-MODIFIED:20260422T142811
LOCATION:Bangor Room\, Memorial Union
SUMMARY:Large Group
URL;VALUE=URI:https://mainechialpha.com/events/large-group--7/2026-09-28
END:VEVENT
END:VCALENDAR
